BEGIN:VCALENDAR
VERSION:2.0
PRODID:-//Inkslingers - ECPv6.15.20//NONSGML v1.0//EN
CALSCALE:GREGORIAN
METHOD:PUBLISH
X-WR-CALNAME:Inkslingers
X-ORIGINAL-URL:https://inkslingers.ca
X-WR-CALDESC:Events for Inkslingers
REFRESH-INTERVAL;VALUE=DURATION:PT1H
X-Robots-Tag:noindex
X-PUBLISHED-TTL:PT1H
BEGIN:VTIMEZONE
TZID:America/Toronto
BEGIN:DAYLIGHT
TZOFFSETFROM:-0500
TZOFFSETTO:-0400
TZNAME:EDT
DTSTART:20250309T070000
END:DAYLIGHT
BEGIN:STANDARD
TZOFFSETFROM:-0400
TZOFFSETTO:-0500
TZNAME:EST
DTSTART:20251102T060000
END:STANDARD
BEGIN:DAYLIGHT
TZOFFSETFROM:-0500
TZOFFSETTO:-0400
TZNAME:EDT
DTSTART:20260308T070000
END:DAYLIGHT
BEGIN:STANDARD
TZOFFSETFROM:-0400
TZOFFSETTO:-0500
TZNAME:EST
DTSTART:20261101T060000
END:STANDARD
BEGIN:DAYLIGHT
TZOFFSETFROM:-0500
TZOFFSETTO:-0400
TZNAME:EDT
DTSTART:20270314T070000
END:DAYLIGHT
BEGIN:STANDARD
TZOFFSETFROM:-0400
TZOFFSETTO:-0500
TZNAME:EST
DTSTART:20271107T060000
END:STANDARD
END:VTIMEZONE
BEGIN:VEVENT
DTSTART;TZID=America/Toronto:20260525T073000
DTEND;TZID=America/Toronto:20260529T083000
DTSTAMP:20260419T194604
CREATED:20260415T102723Z
LAST-MODIFIED:20260415T102723Z
UID:73126-1779694200-1780043400@inkslingers.ca
SUMMARY:PJ Writing Mornings – 7:30am EST (Toronto / New York)
DESCRIPTION:An hour of concentration each weekday morning for this week in that vortex of energy created in synchronicity with other writers also working in communal silence on their projects. The Zoom room will open at 7:15 if you want to come early and chat. Silent writing time begins at 7:30 and goes for 1 hour. \nYou may come for one or more of these 5 morning sessions.\n   \n\n   \nClick this button above to register for Pyjama Writing EACH WEEKDAY MORNING (Toronto / New York time zone) for the week of May 25\, 2026 \n   \n \n   \nThere is no cost to attend this event\, but you can make a donation of any amount to Amherst Writers using the Paypal link (found by clicking the AWA button above) if you would like to do that. \nDonations of any size are welcome and go to support AWA’s social justice programs.
URL:https://inkslingers.ca/event/pj-writing-mornings-730am-est-toronto-new-york-11/
LOCATION:Zoom Room\, Ontario\, L9L1B5\, Canada
CATEGORIES:Pyjama Writing
ATTACH;FMTTYPE=image/jpeg:https://inkslingers.ca/wp-content/uploads/2026/01/250-EST-featured-image.jpg
ORGANIZER;CN="Sue Reynolds - Inkslingers":MAILTO:sue@inkslingers.ca
END:VEVENT
BEGIN:VEVENT
DTSTART;TZID=America/Toronto:20260525T103000
DTEND;TZID=America/Toronto:20260529T113000
DTSTAMP:20260419T194604
CREATED:20260415T103924Z
LAST-MODIFIED:20260415T104140Z
UID:73133-1779705000-1780054200@inkslingers.ca
SUMMARY:Pyjama Writing PST – 7:30am PST (Vancouver / Los Angeles)
DESCRIPTION:An hour of concentration each weekday morning for this week in that vortex of energy created in synchronicity with other writers also working in communal silence on their projects. The Zoom room will open at 7:15 if you want to come early and chat. Silent writing time begins at 7:30 and goes for 1 hour. \nYou may come for one or more of these 5 morning sessions.\n   \n\n   \nClick this button above to register for Pyjama Writing EACH WEEKDAY MORNING (Vancouver / Los Angeles time zone) for the week of May 25\, 2026 \n   \n \n   \nThere is no cost to attend this event\, but you can make a donation of any amount to Amherst Writers using the Paypal link (found by clicking the AWA button above) if you would like to do that. \nDonations of any size are welcome and go to support AWA’s social justice programs.
URL:https://inkslingers.ca/event/pyjama-writing-pst-730am-pst-vancouver-los-angeles-7/
LOCATION:Zoom Room\, Ontario\, L9L1B5\, Canada
CATEGORIES:Pyjama Writing
ATTACH;FMTTYPE=image/jpeg:https://inkslingers.ca/wp-content/uploads/2026/01/250-PST-featured-image.jpg
ORGANIZER;CN="Sue Reynolds - Inkslingers":MAILTO:sue@inkslingers.ca
END:VEVENT
END:VCALENDAR